BEGIN:VCALENDAR
PRODID:-//eluceo/ical//2.0/EN
VERSION:2.0
CALSCALE:GREGORIAN
BEGIN:VEVENT
UID:a92ae66ba95480c824c78c8126d4edb9
DTSTAMP:20260422T074413Z
SUMMARY:Ein "Bad" im Meggerwald
DESCRIPTION:Mitten im Wald\, wo sich Entschleunigung\, Gelassenheit und Ach
 tsamkeit\nmeist wie von allein einstellen\, intensiviert Waldbaden die\nen
 tspannende Wirkung eines Waldspaziergangs.\n
DTSTART:20240611T160000Z
DTEND:20240611T190000Z
LOCATION:
GEO:47.062806;8.367035
X-APPLE-STRUCTURED-LOCATION;VALUE=URI;X-ADDRESS=;X-APPLE-RADIUS=49;X-TITLE=
 :geo:47.062806,8.367035
END:VEVENT
END:VCALENDAR
