BEGIN:VCALENDAR
PRODID:-//eluceo/ical//2.0/EN
VERSION:2.0
CALSCALE:GREGORIAN
BEGIN:VEVENT
UID:d4a4fc5936db14e8a0ce1a42c0dedc3a
DTSTAMP:20260424T025852Z
SUMMARY:Weiherpflegeeinsatz in Richenthal
DESCRIPTION:Wie in den vergangenen Jahren werden wir Mähen\, Streuehaufen\
 nerrichten\, Asthaufen ergänzen und Steinhaufen entkrauten. Als\nMittags-
 Menu geniessen wir Bockwürste und eine leckere Kürbissuppe.\n
DTSTART:20241005T070000Z
DTEND:20241005T130000Z
LOCATION:Kurhaus Hueb\, 6263 Richenthal
END:VEVENT
END:VCALENDAR
