BEGIN:VCALENDAR
PRODID:-//eluceo/ical//2.0/EN
VERSION:2.0
CALSCALE:GREGORIAN
BEGIN:VEVENT
UID:1c3b61cece7ff8a3b0f6dc3131b3be56
DTSTAMP:20260424T161742Z
SUMMARY:Tag der guten Tat: Gemeinsam auf dem Feld arbeiten
DESCRIPTION:Ein neues Zuhause für die Randebandi in Luzern. Hilf mit\, die
  neuen\nFelder zu bestellen. Die eigenen Hände im Boden zu spüren und da
 bei\netwas Gutes zu tun\, gibt ein einmaliges Gefühl von Lebendigkeit.\n
DTSTART:20240525T070000Z
DTEND:20240525T100000Z
LOCATION:Fluck 1\, 6014 Luzern (LU)
END:VEVENT
END:VCALENDAR
