BEGIN:VCALENDAR
PRODID:-//eluceo/ical//2.0/EN
VERSION:2.0
CALSCALE:GREGORIAN
BEGIN:VEVENT
UID:342f7e49b9430dd2e3b07facf0293ec2
DTSTAMP:20260422T054129Z
SUMMARY:Der Impact deiner Reise
DESCRIPTION:Flug-shaming muss nicht sein. Ferien sind zum geniessen da und 
 sollten\nnicht vom schlechten Gewissen begleitet sein. In diesem Onlineinp
 ut\nerhäls du Tipps für deinen nächsten Urlaub von unserer\nNachhaltigk
 eitsbeauftragen eines 5* Hotels Selina\n
DTSTART:20240613T170000Z
DTEND:20240613T173000Z
END:VEVENT
END:VCALENDAR
