BEGIN:VCALENDAR
PRODID:-//eluceo/ical//2.0/EN
VERSION:2.0
CALSCALE:GREGORIAN
BEGIN:VEVENT
UID:f0f86e46dc4ba6fdbe012694bf427fc6
DTSTAMP:20260423T174858Z
SUMMARY:Leaf to root
DESCRIPTION:Aus Gemüseabschnitten lassen sich wunderbare Gerichte zaubern\
 , nur\nleider wissen wir oft nicht wie. In unserem Online Input erhälst d
 u\nspannende Rezepte von unserer Zero Waste Köchin Pamela.\n
DTSTART:20240516T170000Z
DTEND:20240516T173000Z
END:VEVENT
END:VCALENDAR
