BEGIN:VCALENDAR
PRODID:-//eluceo/ical//2.0/EN
VERSION:2.0
CALSCALE:GREGORIAN
BEGIN:VEVENT
UID:62a68247ee48293deb59ca6198b297d3
DTSTAMP:20260425T102020Z
SUMMARY:Lebensraum Waldweiher
DESCRIPTION:Erfahren Sie auf einem Rundgang was sich in den neu angelegten 
 Weihern\nim Meggerwald so alles tummelt.\n
DTSTART:20240424T150000Z
DTEND:20240424T180000Z
LOCATION:
GEO:47.061988;8.385814
X-APPLE-STRUCTURED-LOCATION;VALUE=URI;X-ADDRESS=;X-APPLE-RADIUS=49;X-TITLE=
 :geo:47.061988,8.385814
END:VEVENT
END:VCALENDAR
