BEGIN:VCALENDAR
PRODID:-//eluceo/ical//2.0/EN
VERSION:2.0
CALSCALE:GREGORIAN
BEGIN:VEVENT
UID:708bf9dd63dae901125eb434e234e1e0
DTSTAMP:20260425T102026Z
SUMMARY:Infotag Wagenmoos 
DESCRIPTION:Der Verein Vielfalter informiert über die Natur im Meggerwald 
 und die\nZiele des Vereins. Auf kurzen Rundgängen erleben Besucherinnen u
 nd\nBesucher die Naturwerte hautnah.\n
DTSTART:20240421T080000Z
DTEND:20240421T140000Z
LOCATION:
GEO:47.073883;8.393606
X-APPLE-STRUCTURED-LOCATION;VALUE=URI;X-ADDRESS=;X-APPLE-RADIUS=49;X-TITLE=
 :geo:47.073883,8.393606
END:VEVENT
END:VCALENDAR
