BEGIN:VCALENDAR
PRODID:-//eluceo/ical//2.0/EN
VERSION:2.0
CALSCALE:GREGORIAN
BEGIN:VEVENT
UID:9458425a949b9db2b5ca6a8cf0233ea4
DTSTAMP:20260425T113020Z
SUMMARY:Arbeitseinsatz Schlittenried 
DESCRIPTION:Auf dem Moränenwall im Schlittenried breitet sich der Adlerfar
 n mehr\nund mehr aus. Wir reissen die austreibenden Pflanzen aus und schaf
 fen\nso Platz für selten gewordene Orchideen und andere Moorpflanzen.\n
DTSTART:20240608T063000Z
DTEND:20240608T110000Z
LOCATION:
GEO:47.074345;8.402739
X-APPLE-STRUCTURED-LOCATION;VALUE=URI;X-ADDRESS=;X-APPLE-RADIUS=49;X-TITLE=
 :geo:47.074345,8.402739
END:VEVENT
END:VCALENDAR
