BEGIN:VCALENDAR
PRODID:-//eluceo/ical//2.0/EN
VERSION:2.0
CALSCALE:GREGORIAN
BEGIN:VEVENT
UID:39710f33ae912d7142c1601de4b38282
DTSTAMP:20260425T012939Z
SUMMARY:Der Schneesperling – ein Kältespezialist
DESCRIPTION:Der Schneesperling zieht seine Jungen auf\, wenn noch Schnee li
 egt\, und\ner ist im Winter bei jedem Wetter im Hochgebirge unterwegs. Wie
 \nüberlebt der Schneesperling die harten Bedingungen?\n
DTSTART:20241024T180000Z
DTEND:20241024T193000Z
END:VEVENT
END:VCALENDAR
