BEGIN:VCALENDAR
PRODID:-//eluceo/ical//2.0/EN
VERSION:2.0
CALSCALE:GREGORIAN
BEGIN:VEVENT
UID:e1dc6b852b128014746774d232ffad44
DTSTAMP:20260424T192055Z
SUMMARY:Pflegeeinsatz Eschenbacher Moos
DESCRIPTION:Das Naturschutzgebiet Eschenbacher Moos ist ein kleinstrukturie
 rtes\nWeihergebiet. Die Vielfalt der Lebensräume von Trockenmauern bis\nT
 ümpel hat dank dem Schutz und Pflegekonzept zugenommen.\n
DTSTART:20241019T063000Z
DTEND:20241019T143000Z
END:VEVENT
END:VCALENDAR
