BEGIN:VCALENDAR
PRODID:-//eluceo/ical//2.0/EN
VERSION:2.0
CALSCALE:GREGORIAN
BEGIN:VEVENT
UID:38000f78a5fc0241ade6664107887fb6
DTSTAMP:20260425T160931Z
SUMMARY:EuroBirdwatch 2024 – Faszination Vogelzug
DESCRIPTION:Erleben Sie die Faszination Vogelzug hautnah auf dem Krienser\n
 Sonnenberg bzw. in der Moorlandschaft im Entlebuch! An beiden Orten\nist a
 m Sonntag je einen Beobachtungs- und Informationsstand\neingerichtet.\n
DTSTART:20241006T060000Z
DTEND:20241006T150000Z
END:VEVENT
END:VCALENDAR
