BEGIN:VCALENDAR
PRODID:-//eluceo/ical//2.0/EN
VERSION:2.0
CALSCALE:GREGORIAN
BEGIN:VEVENT
UID:f4c9d4a8d78abd2efcadb1c7fbc64924
DTSTAMP:20260425T131808Z
SUMMARY:Bei den Neuntötern am Krienser Sonnenberg
DESCRIPTION:Der Neuntöter gilt als Wappenvogel für dornenreiche und damit
 \nbesonders vielfältige Hecken und wird in der «Roten Liste der\nBrutvö
 gel» als potenziell gefährdet eingestuft.\n
DTSTART:20240707T060000Z
DTEND:20240707T100000Z
END:VEVENT
END:VCALENDAR
