BEGIN:VCALENDAR
PRODID:-//eluceo/ical//2.0/EN
VERSION:2.0
CALSCALE:GREGORIAN
BEGIN:VEVENT
UID:46dd6044d964b54917548c2b7bed06cb
DTSTAMP:20260425T132610Z
SUMMARY:Tage der Artenvielfalt auf der Melchsee-Frutt
DESCRIPTION:An den Tagen der Artenvielfalt wird in einem festgelegten Gebie
 t die\nArtenvielfalt dokumentiert.\n
DTSTART:20240630T070000Z
DTEND:20240630T140000Z
END:VEVENT
END:VCALENDAR
