BEGIN:VCALENDAR
PRODID:-//eluceo/ical//2.0/EN
VERSION:2.0
CALSCALE:GREGORIAN
BEGIN:VEVENT
UID:4e4e6d5d4de352292922371c9b9163d6
DTSTAMP:20260425T131808Z
SUMMARY:Meisterflieger mit Fluggepäck (BirdLife Jungvögu)
DESCRIPTION:Der Alpensegler verbringt sein ganzes Leben in der Luft. Er fri
 sst und\nschläft im Flug und landet eigentlich nur\, wenn er brütet.\n
DTSTART:20240626T114500Z
DTEND:20240626T143000Z
END:VEVENT
END:VCALENDAR
