BEGIN:VCALENDAR
PRODID:-//eluceo/ical//2.0/EN
VERSION:2.0
CALSCALE:GREGORIAN
BEGIN:VEVENT
UID:8bd856c1592d0309396765de5da48c60
DTSTAMP:20260425T131930Z
SUMMARY:Bergvogelexkursion im Pilatusgebiet
DESCRIPTION:Der Luzerner Hausberg entfaltet im Frühling seine volle Pracht
 . Neben\neiner grossen Vielfalt an Pflanzen\, Säugetieren und Vögeln war
 tet\nauf die Wanderfreudigen eine spektakuläre Aussicht.\n
DTSTART:20240622T061500Z
DTEND:20240622T140000Z
END:VEVENT
END:VCALENDAR
