BEGIN:VCALENDAR
PRODID:-//eluceo/ical//2.0/EN
VERSION:2.0
CALSCALE:GREGORIAN
BEGIN:VEVENT
UID:9c990f4a5d23bfec8f34afb95daf0cca
DTSTAMP:20260425T132246Z
SUMMARY:Hirschkäfer-Exkursion
DESCRIPTION:Der grösste einheimische Käfer erhielt seinen Namen aufgrund 
 des\n«Hirschgeweihs». Dabei handelt es sich um stark vergrösserte\nMund
 werkzeuge\, die jedoch nicht mehr zur Nahrungsaufnahme dienen.\n
DTSTART:20240618T183000Z
DTEND:20240618T200000Z
END:VEVENT
END:VCALENDAR
