BEGIN:VCALENDAR
PRODID:-//eluceo/ical//2.0/EN
VERSION:2.0
CALSCALE:GREGORIAN
BEGIN:VEVENT
UID:b2928476a2c093df2a10e8a629198dff
DTSTAMP:20260422T075052Z
SUMMARY:Wilde Bienen
DESCRIPTION:Honigbienen sind allen für ihren leckeren Honig bekannt. Doch 
 gibt es\nauch die weniger beachteten Wildbienen und gehören dennoch zu de
 n\nwichtigsten Bestäubern.\n
DTSTART:20240612T120000Z
DTEND:20240612T140000Z
END:VEVENT
END:VCALENDAR
