BEGIN:VCALENDAR
PRODID:-//eluceo/ical//2.0/EN
VERSION:2.0
CALSCALE:GREGORIAN
BEGIN:VEVENT
UID:0db6dbc986a40f63219289f008134dd3
DTSTAMP:20260422T074949Z
SUMMARY:Drei-Teiche-Wanderung rund um Roggliswil
DESCRIPTION:Drei naturnahe Karpfenteiche konnten durch das Projekt Karpfen 
 pur\nNatur in den letzten 15 Jahren zwischen Pfaffnau und Roggliswil\nreal
 isiert werden.\n
DTSTART:20240609T063000Z
DTEND:20240609T100000Z
END:VEVENT
END:VCALENDAR
