BEGIN:VCALENDAR
PRODID:-//eluceo/ical//2.0/EN
VERSION:2.0
CALSCALE:GREGORIAN
BEGIN:VEVENT
UID:8109a2bc270ec4e07388dceb9d8c2abe
DTSTAMP:20260425T113137Z
SUMMARY:Zwergtaucher am Fluebergweiher
DESCRIPTION:Im Rahmen des Festivals der Natur machen wir uns auf die Suche 
 nach\nNaturjuwelen am idyllischen Fluebergweiher zwischen Melchnau und\nGr
 ossdietwil.\n
DTSTART:20240525T064500Z
DTEND:20240525T093000Z
END:VEVENT
END:VCALENDAR
