BEGIN:VCALENDAR
PRODID:-//eluceo/ical//2.0/EN
VERSION:2.0
CALSCALE:GREGORIAN
BEGIN:VEVENT
UID:b8553efe24774319f361f1a02605b790
DTSTAMP:20260425T113251Z
SUMMARY:Watvogelrastplatz bei Yverdon (BirdLife Jungvögu)
DESCRIPTION:Watvögel oder Limikolen sind an diesem Ort besonders gut zu\nb
 eobachten.\n
DTSTART:20240525T060000Z
DTEND:20240525T150000Z
END:VEVENT
END:VCALENDAR
