BEGIN:VCALENDAR
PRODID:-//eluceo/ical//2.0/EN
VERSION:2.0
CALSCALE:GREGORIAN
BEGIN:VEVENT
UID:8440eef4ce00579c41f06a7160c3b2bc
DTSTAMP:20260424T031428Z
SUMMARY:Reptilien\, die kleinen Dinosaurier
DESCRIPTION:Die Reptilien im Naturlehrgebiet erinnern durch ihre Heimlichke
 it und\ngeringe Grösse nur noch entfernt an ihre einstigen Verwandten\, d
 ie\nvor Jahrmillionen die Erde bevölkerten.\n
DTSTART:20240522T120000Z
DTEND:20240522T140000Z
END:VEVENT
END:VCALENDAR
