BEGIN:VCALENDAR
PRODID:-//eluceo/ical//2.0/EN
VERSION:2.0
CALSCALE:GREGORIAN
BEGIN:VEVENT
UID:2318f6e1c2ce67a6ba6cb8d47425c416
DTSTAMP:20260425T113336Z
SUMMARY:Stunde der Gartenvögel
DESCRIPTION:Wie viele Vogelarten besuchen Ihren Garten? Und welche Vögel s
 ind im\nnahen Park zu entdecken? Finden Sie es heraus und begeben Sie sich
  auf\neine Minisafari.\n
DTSTART;VALUE=DATE:20240508
DTEND;VALUE=DATE:20240513
END:VEVENT
END:VCALENDAR
