BEGIN:VCALENDAR
PRODID:-//eluceo/ical//2.0/EN
VERSION:2.0
CALSCALE:GREGORIAN
BEGIN:VEVENT
UID:ee79a3ba34dc42f242df6e84b53af42f
DTSTAMP:20260424T031537Z
SUMMARY:Hinweise für die Erfassung des Mauerseglers
DESCRIPTION:Die Bestandsaufnahme von Kolonien und das Bereitstellen von\nNi
 stkästen sind essenziell für den Erhalt und die Förderung des\nMauerseg
 lers.\n
DTSTART:20240507T160000Z
DTEND:20240507T190000Z
END:VEVENT
END:VCALENDAR
