BEGIN:VCALENDAR
PRODID:-//eluceo/ical//2.0/EN
VERSION:2.0
CALSCALE:GREGORIAN
BEGIN:VEVENT
UID:e21b25f12f273df677393c01536e042d
DTSTAMP:20260425T102026Z
SUMMARY:«Bördleif» Vogelrally (BirdLife Jungvögu)
DESCRIPTION:Schon zum siebten Mal findet das Bird Race von BirdLife Luzern 
 statt\,\ndieses Jahr nur für Kinder und Jugendliche. Für sie wird am\nNa
 chmittag eine dreistündige\, begleitete Vogelpirsch rund um den\nRotsee o
 rganisiert.\n
DTSTART:20240420T120000Z
DTEND:20240420T150000Z
END:VEVENT
END:VCALENDAR
