BEGIN:VCALENDAR
PRODID:-//eluceo/ical//2.0/EN
VERSION:2.0
CALSCALE:GREGORIAN
BEGIN:VEVENT
UID:39e42993354613002481aad1424328f6
DTSTAMP:20260425T102158Z
SUMMARY:Kiebitzbalz in der Wauwiler Ebene
DESCRIPTION:Rund ein Viertel des Schweizer Kiebitzbestands brütet in der W
 auwiler\nEbene. Dort führt die Vogelwarte seit 2005 ein wissenschaftlich\
 nbegleitetes Projekt zur Förderung des Kiebitzes durch.\n
DTSTART:20240407T050000Z
DTEND:20240407T100000Z
END:VEVENT
END:VCALENDAR
