BEGIN:VCALENDAR
PRODID:-//eluceo/ical//2.0/EN
VERSION:2.0
CALSCALE:GREGORIAN
BEGIN:VEVENT
UID:759a4e6ec5b85aa98b7ab0153629d1af
DTSTAMP:20260425T143623Z
SUMMARY:Repair Café Luzern - Neubad
DESCRIPTION:Reparieren schont Budget und Umwelt – gemeinsam und unentgelt
 lich\n
DTSTART:20240907T080000Z
DTEND:20240907T120000Z
LOCATION:Bireggstrasse 36\, 6003 Luzern
GEO:47.041412;8.307136
X-APPLE-STRUCTURED-LOCATION;VALUE=URI;X-ADDRESS=Bireggstrasse 36\, 6003 Luz
 ern;X-APPLE-RADIUS=49;X-TITLE=:geo:47.041412,8.307136
END:VEVENT
END:VCALENDAR
