BEGIN:VCALENDAR
PRODID:-//eluceo/ical//2.0/EN
VERSION:2.0
CALSCALE:GREGORIAN
BEGIN:VEVENT
UID:51ef16ab29a40b743c05c4e8e62130e7
DTSTAMP:20260425T132620Z
SUMMARY:Leuchtender Rundgang auf dem Friedhof: Glühwürmchen
DESCRIPTION:In einem spannenden Friedhofsrundgang mehr über die "Laternen 
 der\nNacht" erfahren.\n
DTSTART:20240627T200000Z
DTEND:20240627T213000Z
LOCATION:
GEO:47.058831;8.292618
X-APPLE-STRUCTURED-LOCATION;VALUE=URI;X-ADDRESS=;X-APPLE-RADIUS=49;X-TITLE=
 :geo:47.058831,8.292618
END:VEVENT
END:VCALENDAR
