BEGIN:VCALENDAR
PRODID:-//eluceo/ical//2.0/EN
VERSION:2.0
CALSCALE:GREGORIAN
BEGIN:VEVENT
UID:c15b4b02a0fcc10d81dbdf931e0823cd
DTSTAMP:20260425T084201Z
SUMMARY:Leuchtender Rundgang auf dem Friedhof: Glühwürmchen
DESCRIPTION:In einem spannenden Friedhofsrundgang mehr über die "Laternen 
 der\nNacht" erfahren.\n
DTSTART:20240626T200000Z
DTEND:20240626T213000Z
LOCATION:
GEO:47.058831;8.292618
X-APPLE-STRUCTURED-LOCATION;VALUE=URI;X-ADDRESS=;X-APPLE-RADIUS=49;X-TITLE=
 :geo:47.058831,8.292618
END:VEVENT
END:VCALENDAR
