BEGIN:VCALENDAR
PRODID:-//eluceo/ical//2.0/EN
VERSION:2.0
CALSCALE:GREGORIAN
BEGIN:VEVENT
UID:0df8d540942e989302f63cc613e24f04
DTSTAMP:20260422T073906Z
SUMMARY:Wildkräuterexkursion Friedental - Rotsee
DESCRIPTION:Was sind die kulinarischen Verwendungsmöglichkeiten von einhei
 mischen\nWildkräuter\, Sträucher und Bäumen?\n
DTSTART:20240615T080000Z
DTEND:20240615T110000Z
LOCATION:
GEO:47.058831;8.292618
X-APPLE-STRUCTURED-LOCATION;VALUE=URI;X-ADDRESS=;X-APPLE-RADIUS=49;X-TITLE=
 :geo:47.058831,8.292618
END:VEVENT
END:VCALENDAR
