BEGIN:VCALENDAR
PRODID:-//eluceo/ical//2.0/EN
VERSION:2.0
CALSCALE:GREGORIAN
BEGIN:VEVENT
UID:2908347d8dd6d1cb857695e7f77b2db9
DTSTAMP:20260425T113056Z
SUMMARY:Kinderanlass: Färben und Malen mit Pflanzenfarben
DESCRIPTION:Erfahre welche Pflanzen schon seit Urzeiten zum Färben genutzt
  wurden\nund welche spannenden Geschichten damit verknüpft sind.\n
DTSTART:20240601T080000Z
DTEND:20240601T110000Z
LOCATION:Löwenplatz 11\, 6004 Luzern
GEO:47.056905;8.311345
X-APPLE-STRUCTURED-LOCATION;VALUE=URI;X-ADDRESS=Löwenplatz 11\, 6004 Luzer
 n;X-APPLE-RADIUS=49;X-TITLE=:geo:47.056905,8.311345
END:VEVENT
END:VCALENDAR
