BEGIN:VCALENDAR
PRODID:-//eluceo/ical//2.0/EN
VERSION:2.0
CALSCALE:GREGORIAN
BEGIN:VEVENT
UID:5fbee3c6c3103f775edd88a5d5e5b3c5
DTSTAMP:20260424T214358Z
SUMMARY:Setzlingsmarkt mit Schwerpunkt naturnaher Balkon und Wildbienen
DESCRIPTION:Am Setzlingsmarkt können Sie insektenfreundliche Pflanzen find
 en und\nselber mitgebrachte Kistchen bepflanzen. Der Anlass ist auch für\
 nKinder geeignet.\n
DTSTART:20240427T070000Z
DTEND:20240427T140000Z
LOCATION:Zähringerstrasse\, 6003 Luzern
GEO:47.049109;8.299999
X-APPLE-STRUCTURED-LOCATION;VALUE=URI;X-ADDRESS=Zähringerstrasse\, 6003 Lu
 zern;X-APPLE-RADIUS=49;X-TITLE=:geo:47.049109,8.299999
END:VEVENT
END:VCALENDAR
