BEGIN:VCALENDAR
PRODID:-//eluceo/ical//2.0/EN
VERSION:2.0
CALSCALE:GREGORIAN
BEGIN:VEVENT
UID:91e6fc8992cfc88303096501197a0546
DTSTAMP:20260425T161256Z
SUMMARY:Gartenplanung und Fruchtfolge
DESCRIPTION:Ernte-Erfolge dank guter Planung. Was muss ich beachten?\n
DTSTART:20241021T154500Z
DTEND:20241021T181500Z
LOCATION:Münzgasse 4\,\, 6102 Malters
END:VEVENT
END:VCALENDAR
