BEGIN:VCALENDAR
PRODID:-//eluceo/ical//2.0/EN
VERSION:2.0
CALSCALE:GREGORIAN
BEGIN:VEVENT
UID:dfd81a4d78bf39be97dd7a643ee1a829
DTSTAMP:20260425T143635Z
SUMMARY:Fermentieren - mehr als nur haltbar machen
DESCRIPTION:Fermentieren erfreut sich grosser Beliebtheit – die Rezepte d
 azu\nsind zahlreich und so verschieden\, wie deren Köche.\n
DTSTART:20240914T073000Z
DTEND:20240914T140000Z
LOCATION:Bäremattweg 1\, 6017 Ruswil
END:VEVENT
END:VCALENDAR
