BEGIN:VCALENDAR
PRODID:-//eluceo/ical//2.0/EN
VERSION:2.0
CALSCALE:GREGORIAN
BEGIN:VEVENT
UID:d24b6b6ed53520c7b9e03c5f00059513
DTSTAMP:20260424T041323Z
SUMMARY:11. Entlebucher Kräuter- und Wildpflanzenmarkt
DESCRIPTION:Handwerkkunst vom Feinsten\, und dazwischen eine riesige Vielfa
 lt an\nJungpflanzen von Kräutern\, Wildpflanzen\, Sträuchern\, Gemüse o
 der\nWildgeranien. Biodiversität pur! Da geht dem Gärtner das Herz auf\n
 und der Köchin läuft das Wasser im Mund zusammen…\n
DTSTART:20240518T070000Z
DTEND:20240518T140000Z
LOCATION:Dorfplatz\, 6182 Escholzmatt
GEO:46.913762;7.934291
X-APPLE-STRUCTURED-LOCATION;VALUE=URI;X-ADDRESS=Dorfplatz\, 6182 Escholzmat
 t;X-APPLE-RADIUS=49;X-TITLE=:geo:46.913762,7.934291
END:VEVENT
END:VCALENDAR
