BEGIN:VCALENDAR
PRODID:-//eluceo/ical//2.0/EN
VERSION:2.0
CALSCALE:GREGORIAN
BEGIN:VEVENT
UID:2b742e5a8affd028d0100e8bee0e0f02
DTSTAMP:20260425T143846Z
SUMMARY:Salate ernten\, auch im Winter
DESCRIPTION:Frisch geerntete Bio-Salate sind im Winter besonders wertvoll. 
 Wie\ngeht das?\n
DTSTART:20240826T154500Z
DTEND:20240826T181500Z
LOCATION:Münzgasse 4\, 6102 Malters
END:VEVENT
END:VCALENDAR
