BEGIN:VCALENDAR
PRODID:-//eluceo/ical//2.0/EN
VERSION:2.0
CALSCALE:GREGORIAN
BEGIN:VEVENT
UID:a35da62e07d59d4482fce98b5a44e076
DTSTAMP:20260425T130010Z
SUMMARY:Teegenuss aus Wald\, Wiese und Garten
DESCRIPTION:Teekräuter können wir überall in der Natur finden und selber
  ernten\n
DTSTART:20240824T070000Z
DTEND:20240824T100000Z
LOCATION:Geuenseestr. 2a\, 6210 Sursee
END:VEVENT
END:VCALENDAR
