BEGIN:VCALENDAR
PRODID:-//eluceo/ical//2.0/EN
VERSION:2.0
CALSCALE:GREGORIAN
BEGIN:VEVENT
UID:ec227a8916f00088e308f724f9f23a3f
DTSTAMP:20260422T074157Z
SUMMARY:Kompost\, das Gold der Gärtner*innen
DESCRIPTION:Mit wenig Aufwand entsteht aus Garten- und Küchenabfällen wer
 tvoller\nDünger\n
DTSTART:20240615T071500Z
DTEND:20240615T101500Z
LOCATION:Münzgasse 4\, 6102 Malters
END:VEVENT
END:VCALENDAR
