BEGIN:VCALENDAR
PRODID:-//eluceo/ical//2.0/EN
VERSION:2.0
CALSCALE:GREGORIAN
BEGIN:VEVENT
UID:48f4ab8e2cfc405e78b9d3a881e5f926
DTSTAMP:20260425T113325Z
SUMMARY:Vom Mähen bis zum Dengeln
DESCRIPTION:Mähen mit der Sense für alle\, welche die Natur lieben und In
 sekten\nund Kleintiere schonen wollen.\n
DTSTART:20240525T070000Z
DTEND:20240525T133000Z
LOCATION:Burgrain 24\, 6248 Alberswil
END:VEVENT
END:VCALENDAR
