BEGIN:VCALENDAR
PRODID:-//eluceo/ical//2.0/EN
VERSION:2.0
CALSCALE:GREGORIAN
BEGIN:VEVENT
UID:6200f3427343ccf958fc17d4a93859d0
DTSTAMP:20260422T002009Z
SUMMARY:Invasive Neophyten effektiv bekämpfen - Kurs in Sursee
DESCRIPTION:Diese Veranstaltung wird im Auftrag des Kantons Luzern durchgef
 ührt.\n
DTSTART:20231106T140000Z
DTEND:20231106T160000Z
END:VEVENT
END:VCALENDAR
