BEGIN:VCALENDAR
PRODID:-//eluceo/ical//2.0/EN
VERSION:2.0
CALSCALE:GREGORIAN
BEGIN:VEVENT
UID:06ab46cedea80b4b2efaa43787598e72
DTSTAMP:20260421T215413Z
SUMMARY:Besichtigung Renergia Perlen
DESCRIPTION:Aus den Augen aus dem Sinn. So geht es uns mit unserem Abfall. 
 Aber\nwas geschieht eigentlich genau in einer Kehrichtverbrennungsanlage?\
 nWas sind die Vorteile\, gibt es auch Nachteile & was darf eigentlich\nall
 es in den Hausmüll? Komm mit & erfahre mehr\n
DTSTART;VALUE=DATE:20231104
END:VEVENT
END:VCALENDAR
