BEGIN:VCALENDAR
PRODID:-//eluceo/ical//2.0/EN
VERSION:2.0
CALSCALE:GREGORIAN
BEGIN:VEVENT
UID:d995da7218ab2f9efd031c9459b9f96c
DTSTAMP:20260422T001912Z
SUMMARY:StadtWildTiere – Anlass: Blütenbesucher in Luzern
DTSTART:20231109T173000Z
DTEND:20231109T190000Z
END:VEVENT
END:VCALENDAR
