BEGIN:VCALENDAR
PRODID:-//eluceo/ical//2.0/EN
VERSION:2.0
CALSCALE:GREGORIAN
BEGIN:VEVENT
UID:7c63712fc58840fdf95e5bea3133b26c
DTSTAMP:20260421T224327Z
SUMMARY:Energieeffizientes Heizen - Heizungsersatz in der Stadt Luzern
DESCRIPTION:Die Stadt Luzern hat ambitionierte Klimaziele. Informieren Sie 
 sich\nund lassen Sie sich inspirieren an unserer Impulsveranstaltung\n«He
 izungsersatz in der Stadt Luzern» vom 18. Oktober bei uns im\nEnergiehaus
  Luzern.\n
DTSTART:20231018T160000Z
DTEND:20231018T180000Z
LOCATION:Luzernerstrasse 131\, 6014 Ort
GEO:47.049467;8.268123
X-APPLE-STRUCTURED-LOCATION;VALUE=URI;X-ADDRESS=Luzernerstrasse 131\, 6014 
 Ort;X-APPLE-RADIUS=49;X-TITLE=:geo:47.049467,8.268123
END:VEVENT
END:VCALENDAR
