BEGIN:VCALENDAR
PRODID:-//eluceo/ical//2.0/EN
VERSION:2.0
CALSCALE:GREGORIAN
BEGIN:VEVENT
UID:e4fa74191f4c13fde3674efe39c5d5d4
DTSTAMP:20260421T224714Z
SUMMARY:Abendvortrag: Achtung Hochwasser! Was heisst dies für Tiere und Pf
 lanzen in Fliessgewässern?
DESCRIPTION:Hochwasser sind charakteristisch für Fliessgewässer. Wir Mens
 chen\nunternehmen grosse Anstrengungen\, um uns vor den Wassermassen zu\ns
 chützen. Was bedeuten aber Hochwasser für die Lebewesen in und an\nunser
 en Flüssen und Bächen? Ausnahmezustand oder ‘Courant\nnormal’\, also
  nichts Besonderes?\n
DTSTART:20231017T173000Z
DTEND:20231017T183000Z
LOCATION:Seestrasse 79\, 6047 Kastanienbaum
END:VEVENT
END:VCALENDAR
