BEGIN:VCALENDAR
PRODID:-//eluceo/ical//2.0/EN
VERSION:2.0
CALSCALE:GREGORIAN
BEGIN:VEVENT
UID:45ece46fe041a666073faebffa7093a7
DTSTAMP:20260421T224639Z
SUMMARY:Vom gesunden Boden zum gesunden Körper und Geist
DESCRIPTION:Mykorrhiza-Pilze\, Pyrolysekohle und urbane und solidarische\nB
 io-Landwirtschaft: Eine Entdeckungsreise auf dem Gemüsefeld der\nWeberwie
 se mit einer abschliessenden Yogastunde für alle. Die\nVeranstaltung find
 et im Rahmen der 'Tage der Agrarökologie' 2023\nstatt.\n
DTSTART:20231006T150000Z
DTEND:20231006T170000Z
LOCATION:Weberwiese\, Emmenmattstrasse\, 6032 Emmen
GEO:47.068817;8.288023
X-APPLE-STRUCTURED-LOCATION;VALUE=URI;X-ADDRESS=Weberwiese\, Emmenmattstras
 se\, 6032 Emmen;X-APPLE-RADIUS=49;X-TITLE=:geo:47.068817,8.288023
END:VEVENT
END:VCALENDAR
