BEGIN:VCALENDAR
PRODID:-//eluceo/ical//2.0/EN
VERSION:2.0
CALSCALE:GREGORIAN
BEGIN:VEVENT
UID:b14a768bb118a5cf19f1b5b21c603260
DTSTAMP:20260425T160916Z
SUMMARY:6. Nationaler Heckentag
DESCRIPTION:Sei dabei am 6. nationalen Heckentag 2024! Am 26. Oktober pflan
 zen und\npflegen wir wieder zahlreiche Wildhecken. Für Standorte in der g
 anzen\nSchweiz suchen wir motivierte Freiwillige\, die am Heckentag mit\na
 npacken und gemeinsam die Artenvielfalt fördern möchten.\n
DTSTART;VALUE=DATE:20241026
END:VEVENT
END:VCALENDAR
