BEGIN:VCALENDAR
PRODID:-//eluceo/ical//2.0/EN
VERSION:2.0
CALSCALE:GREGORIAN
BEGIN:VEVENT
UID:68cacdaab291cf65879c4dbfe6c6ee99
DTSTAMP:20260421T224744Z
SUMMARY:Klimatag Buttisholz
DESCRIPTION:Der Klimatag motiviert und inspiriert. Sei dabei! Biodiversitä
 t\,\nBaumrundgang\, Ernteglück\, Kleidertausch und noch mehr Spannendes -
 \nlass dich überraschen!\n
DTSTART:20230923T070000Z
DTEND:20230923T140000Z
LOCATION:Mülacher 3\, 6018 Buttisholz
GEO:47.115518;8.097937
X-APPLE-STRUCTURED-LOCATION;VALUE=URI;X-ADDRESS=Mülacher 3\, 6018 Buttisho
 lz;X-APPLE-RADIUS=49;X-TITLE=:geo:47.115518,8.097937
END:VEVENT
END:VCALENDAR
