BEGIN:VCALENDAR
PRODID:-//eluceo/ical//2.0/EN
VERSION:2.0
CALSCALE:GREGORIAN
BEGIN:VEVENT
UID:8373bc9e242bad2233aab46946e0c347
DTSTAMP:20260421T224745Z
SUMMARY:Kleidertausch - kostenlos - 16.9.23 Kulturquadrat Schappe in Kriens
DTSTART:20230916T110000Z
DTEND:20230916T140000Z
END:VEVENT
END:VCALENDAR
