BEGIN:VCALENDAR
PRODID:-//eluceo/ical//2.0/EN
VERSION:2.0
CALSCALE:GREGORIAN
BEGIN:VEVENT
UID:3671e46cd8cdc1e39d0b5a3ea947c1ce
DTSTAMP:20260421T224715Z
SUMMARY:Velobörse Pro Velo Luzern
DESCRIPTION:Am Samstag\, 09. September 2023 findet die Velobörse am Nation
 alquai\nin Luzern statt. Nicht mehr benötigte Velos\, Kindervelos oder\nA
 nhänger können von 8.30 bis 11.30 abgegeben werden. Pro Person\ndürfen 
 maximal 3 Velos zum Verkauf angeboten werden.\n
DTSTART:20230909T110000Z
DTEND:20230909T140000Z
LOCATION:
GEO:47.050168;8.309307
X-APPLE-STRUCTURED-LOCATION;VALUE=URI;X-ADDRESS=;X-APPLE-RADIUS=49;X-TITLE=
 :geo:47.050168,8.309307
END:VEVENT
END:VCALENDAR
