BEGIN:VCALENDAR
PRODID:-//eluceo/ical//2.0/EN
VERSION:2.0
CALSCALE:GREGORIAN
BEGIN:VEVENT
UID:a238abdb851eb6b5ea9ed53a3590ee0e
DTSTAMP:20260421T223453Z
SUMMARY:Flachsfestival mit Brächete
DESCRIPTION:Grosses Festival und "Brächete" im Schweizerischen Agrarmuseum
 \nBurgrain mit vielen Attraktionen zur trendigen Kulturpflanze Flachs\nfü
 r die ganze Familie.\n
DTSTART:20230903T080000Z
DTEND:20230903T150000Z
LOCATION:Burgrain 24\, 6248 Alberswil
GEO:47.145584;7.993399
X-APPLE-STRUCTURED-LOCATION;VALUE=URI;X-ADDRESS=Burgrain 24\, 6248 Alberswi
 l;X-APPLE-RADIUS=49;X-TITLE=:geo:47.145584,7.993399
END:VEVENT
END:VCALENDAR
