BEGIN:VCALENDAR
PRODID:-//eluceo/ical//2.0/EN
VERSION:2.0
CALSCALE:GREGORIAN
BEGIN:VEVENT
UID:75bf6c8f00558b529ca45e826f94f61c
DTSTAMP:20260422T000959Z
SUMMARY:Weinbau\, Agritourismus und schottische Hochlandrinder mitten in de
 r Stadt Luzern
DESCRIPTION:Mitten in der Stadt Luzern wachsen auf rund 60 Aren Rebsorten\,
 \ndie nicht nur nach den Biorichtlinien\, sondern auch nach\nbiodynamische
 n Ansätzen gehegt und gepflegt werden. Beim Besuch\nerfahren Sie vieles 
 über den Anbau\, die Pflege\nund Veredelung\n
DTSTART:20231028T113000Z
DTEND:20231028T140000Z
LOCATION:Salzfassstrasse 37\, 6006 Luzern
GEO:47.047479;8.347887
X-APPLE-STRUCTURED-LOCATION;VALUE=URI;X-ADDRESS=Salzfassstrasse 37\, 6006 L
 uzern;X-APPLE-RADIUS=49;X-TITLE=:geo:47.047479,8.347887
END:VEVENT
END:VCALENDAR
